BEGIN:VCALENDAR
VERSION:2.0
PRODID:-//Barbara Brown Taylor - ECPv6.15.17.1//NONSGML v1.0//EN
CALSCALE:GREGORIAN
METHOD:PUBLISH
X-ORIGINAL-URL:https://barbarabrowntaylor.com
X-WR-CALDESC:Events for Barbara Brown Taylor
REFRESH-INTERVAL;VALUE=DURATION:PT1H
X-Robots-Tag:noindex
X-PUBLISHED-TTL:PT1H
BEGIN:VTIMEZONE
TZID:UTC
BEGIN:STANDARD
TZOFFSETFROM:+0000
TZOFFSETTO:+0000
TZNAME:UTC
DTSTART:20220101T000000
END:STANDARD
END:VTIMEZONE
BEGIN:VEVENT
DTSTART;VALUE=DATE:20230311
DTEND;VALUE=DATE:20230312
DTSTAMP:20260419T121326
CREATED:20230215T155319Z
LAST-MODIFIED:20230222T220355Z
UID:1741-1678492800-1678579199@barbarabrowntaylor.com
SUMMARY:Founders Day
DESCRIPTION:“Holy Envy: Finding God in the Faith of Others” \nThe Office of Church Relations is pleased to bring The Rev. Dr. Barbara Brown Taylor to teach and preach on Saturday\, March 11\, 2023\, on Chapman University’s campus in Orange\, CA.  Her lecture will take place at 10:00 am and she will preach at the worship service beginning at 1:30 pm.  Please register for this free event by using the link below. \n 
URL:https://barbarabrowntaylor.com/event/founders-day/
LOCATION:Chapman University\, 1 University Dr.\, Orange\, California\, 92866
END:VEVENT
END:VCALENDAR